BEGIN:VCALENDAR
VERSION:2.0
PRODID:-//balance - ECPv6.15.11//NONSGML v1.0//EN
CALSCALE:GREGORIAN
METHOD:PUBLISH
X-WR-CALNAME:balance
X-ORIGINAL-URL:https://balance-heidelberg.com
X-WR-CALDESC:Veranstaltungen für balance
REFRESH-INTERVAL;VALUE=DURATION:PT1H
X-Robots-Tag:noindex
X-PUBLISHED-TTL:PT1H
BEGIN:VTIMEZONE
TZID:Europe/Berlin
BEGIN:DAYLIGHT
TZOFFSETFROM:+0100
TZOFFSETTO:+0200
TZNAME:CEST
DTSTART:20250330T010000
END:DAYLIGHT
BEGIN:STANDARD
TZOFFSETFROM:+0200
TZOFFSETTO:+0100
TZNAME:CET
DTSTART:20251026T010000
END:STANDARD
BEGIN:DAYLIGHT
TZOFFSETFROM:+0100
TZOFFSETTO:+0200
TZNAME:CEST
DTSTART:20260329T010000
END:DAYLIGHT
BEGIN:STANDARD
TZOFFSETFROM:+0200
TZOFFSETTO:+0100
TZNAME:CET
DTSTART:20261025T010000
END:STANDARD
BEGIN:DAYLIGHT
TZOFFSETFROM:+0100
TZOFFSETTO:+0200
TZNAME:CEST
DTSTART:20270328T010000
END:DAYLIGHT
BEGIN:STANDARD
TZOFFSETFROM:+0200
TZOFFSETTO:+0100
TZNAME:CET
DTSTART:20271031T010000
END:STANDARD
END:VTIMEZONE
BEGIN:VEVENT
DTSTART;TZID=Europe/Berlin:20260425T100000
DTEND;TZID=Europe/Berlin:20260426T143000
DTSTAMP:20260425T172409
CREATED:20260226T102100Z
LAST-MODIFIED:20260303T100708Z
UID:1811-1777111200-1777213800@balance-heidelberg.com
SUMMARY:Workshop: Authentische Körpersprache
DESCRIPTION:Souverän & überzeugend auftreten! \n\n\n\n\n\n\n\nSetzten Sie aktiv Ihre Körpersprache ein\, um eindrucksvoller\, durchsetzungsfähiger und ‚gewichtiger‘ zu werden!  \n\n\n\nInhalte: \n\n\n\nDer erste Eindruck • Körperwahrnehmung und Körperbewusstsein • Fremd- und Selbstwahrnehmung • Atmung und Stimme • sich Raum nehmen • sich abgrenzen • Kontakt und Nähe • Hierarchie und Rollenzuschreibung • kulturelle und geschlechtsspezifische Aspekte • Gelassenheit und Präsenz • Lampenfieber • Stressbewältigung • Gefühlsmanagement \n\n\n\n\nWeitere Infos\n\n\n\n\nSa. 10.00-17.30 / So. 10.00-14.30Kleingruppe\, max. 6 TN\,privat: 280\,- / geschäftlich: 480\,- €
URL:https://balance-heidelberg.com/termin/workshop-authentische-korpersprache-2604/
ATTACH;FMTTYPE=image/jpeg:https://balance-heidelberg.com/wp-content/uploads/balance-authentische-koerpersprache.jpg
END:VEVENT
END:VCALENDAR