BEGIN:VCALENDAR
VERSION:2.0
PRODID:-//balance - ECPv6.15.11//NONSGML v1.0//EN
CALSCALE:GREGORIAN
METHOD:PUBLISH
X-ORIGINAL-URL:https://balance-heidelberg.com
X-WR-CALDESC:Veranstaltungen für balance
REFRESH-INTERVAL;VALUE=DURATION:PT1H
X-Robots-Tag:noindex
X-PUBLISHED-TTL:PT1H
BEGIN:VTIMEZONE
TZID:Europe/Berlin
BEGIN:DAYLIGHT
TZOFFSETFROM:+0100
TZOFFSETTO:+0200
TZNAME:CEST
DTSTART:20250330T010000
END:DAYLIGHT
BEGIN:STANDARD
TZOFFSETFROM:+0200
TZOFFSETTO:+0100
TZNAME:CET
DTSTART:20251026T010000
END:STANDARD
BEGIN:DAYLIGHT
TZOFFSETFROM:+0100
TZOFFSETTO:+0200
TZNAME:CEST
DTSTART:20260329T010000
END:DAYLIGHT
BEGIN:STANDARD
TZOFFSETFROM:+0200
TZOFFSETTO:+0100
TZNAME:CET
DTSTART:20261025T010000
END:STANDARD
BEGIN:DAYLIGHT
TZOFFSETFROM:+0100
TZOFFSETTO:+0200
TZNAME:CEST
DTSTART:20270328T010000
END:DAYLIGHT
BEGIN:STANDARD
TZOFFSETFROM:+0200
TZOFFSETTO:+0100
TZNAME:CET
DTSTART:20271031T010000
END:STANDARD
END:VTIMEZONE
BEGIN:VEVENT
DTSTART;TZID=Europe/Berlin:20260512T184500
DTEND;TZID=Europe/Berlin:20260512T210000
DTSTAMP:20260425T185143
CREATED:20260226T102100Z
LAST-MODIFIED:20260303T100933Z
UID:1872-1778611500-1778619600@balance-heidelberg.com
SUMMARY:Frauengruppe: sich stärken – Herausforderungen anpacken – Potenziale entfalten!
DESCRIPTION:Tanz- und gestalttherapeutische Gruppe für Frauen \n\n\n\n\n\n\n\nDie heilsamen Aspekte von Bewegung\, Musik und Tanz nutzen • Entspannen • Achtsamkeit für sich selbst entwickeln • sich in der eigenen Haut wohler fühlen • Zeit für perönliche Themen nehmen • Wege finden\, Lösungen entwickeln • Selbstbewusstsein und Selbstbehauptung stärken • das Potenzial von Gruppen erleben • gemeinsam mit anderen • Wachstumsimpulse durch kreative Methoden erfahren • mit psychotherapeutischer Begleitung \n\n\n\n\nWeitere Infos\n\n\n\n\n2x mtl. / 12 Termine / Kleingruppe / Ferienzeiten werden berücksichtigt
URL:https://balance-heidelberg.com/termin/tanz-gestalttherapeutische-gruppe-2605/
ATTACH;FMTTYPE=image/jpeg:https://balance-heidelberg.com/wp-content/uploads/balance-tanztherapie-koerpertherapie-kraftvoll-beweglich.jpg
END:VEVENT
END:VCALENDAR